BEGIN:VCALENDAR
VERSION:2.0
PRODID:-//Library Market//iCal Export//EN
BEGIN:VEVENT
SUMMARY:Build It!
UID:70943
DTSTAMP:20260421T101400Z
DTSTART:20260626T180000Z
DTEND:20260626T190000Z
LOCATION:5449 Big Tyler Rd, Cross Lanes, WV 25313, United States
ROOM: Cross Lanes Meeting Room
DESCRIPTION:Come build with us! Explore our various building sets, includi
 ng LEGO bricks.
URL:https://www.kcpls.org/event/build-it-70943
END:VEVENT
END:VCALENDAR
