BEGIN:VCALENDAR
VERSION:2.0
PRODID:-//Library Market//iCal Export//EN
BEGIN:VEVENT
SUMMARY:Build It!
UID:70944
DTSTAMP:20260421T101100Z
DTSTART:20260731T180000Z
DTEND:20260731T190000Z
LOCATION:5449 Big Tyler Rd, Cross Lanes, WV 25313, United States
ROOM: Cross Lanes Meeting Room
DESCRIPTION:Come build with us! Explore our various building sets, includi
 ng LEGO bricks.
URL:https://www.kcpls.org/event/build-it-can-be-moved-if-we-get-insect-amb
 er-slime-program-70944
END:VEVENT
END:VCALENDAR
