BEGIN:VCALENDAR
VERSION:2.0
PRODID:-//Library Market//iCal Export//EN
BEGIN:VEVENT
SUMMARY:Little Sprouts, Big Results
UID:71463
DTSTAMP:20260420T165400Z
DTSTART:20260511T220000Z
DTEND:20260511T230000Z
LOCATION:602 4th St, St. Albans, WV 25177, United States
ROOM: St. Albans Community Room
DESCRIPTION:Come to the library and learn what you need to know to plant a
  garden. Learn about worms, soil, bugs (helpful and harmful), and what a h
 ealthy garden needs. You&#039;ll leave with a planted seed and a grow bag 
 to put your plant in. 
URL:https://www.kcpls.org/event/little-sprouts-big-results-71463
END:VEVENT
END:VCALENDAR
