BEGIN:VCALENDAR
VERSION:2.0
PRODID:-//Library Market//iCal Export//EN
BEGIN:VEVENT
SUMMARY:Clay Center Block Party
UID:71511
DTSTAMP:20260420T165400Z
DTSTART:20260516T140000Z
DTEND:20260516T180000Z
LOCATION:Clay Center Front Plaza, 1 Clay Square, Charleston, WV 25301, Uni
 ted States
ROOM: Clay Center Block Party
DESCRIPTION:Visit the Bookmobile at the first-ever Clay Center Block Party
 !Clay Center Block Party is a joyful, outdoor celebration to kick off the 
 summer season. The plaza transforms into a festival space filled with big 
 trucks, music, bubbles, rockets, games, and hands-on activities. This comm
 unity-centered event invites families to play, explore, and celebrate toge
 ther.Outside, you&#039;ll be able to explore an exciting lineup that inclu
 des Big trucks and other vehicles from community partners (like the KCPL B
 ookmobile!), live music from Mark Davis from Vinyl Village, and hands-on a
 ctivities like rocket launches, sidewalk painting, and bubbles. Visit the
  Clay Center Block Party event website for more info.  
URL:https://www.kcpls.org/event/clay-center-block-party-71511
END:VEVENT
END:VCALENDAR
