BEGIN:VCALENDAR
VERSION:2.0
PRODID:-//Library Market//iCal Export//EN
BEGIN:VEVENT
SUMMARY:SLC Kids: DIY Geode
UID:71515
DTSTAMP:20260421T101500Z
DTSTART:20260625T220000Z
DTEND:20260625T230000Z
LOCATION:5449 Big Tyler Rd, Cross Lanes, WV 25313, United States
ROOM: Cross Lanes Meeting Room
DESCRIPTION:Construct a colorful artificial geode from simple craft suppli
 es. Ages 8 and up due to the use of low temp glue guns. Registration opens
  June 1 at 10:00 am.
URL:https://www.kcpls.org/event/slc-kids-diy-geode-71515
END:VEVENT
END:VCALENDAR
