BEGIN:VCALENDAR
VERSION:2.0
PRODID:-//Library Market//iCal Export//EN
BEGIN:VEVENT
SUMMARY:SLC Kids: Unearth and Explore
UID:71516
DTSTAMP:20260421T101500Z
DTSTART:20260729T180000Z
DTEND:20260729T200000Z
LOCATION:5449 Big Tyler Rd, Cross Lanes, WV 25313, United States
ROOM: Cross Lanes Meeting Room
DESCRIPTION:Unearth and explore hands on activities at this drop in event.
  Play dino match, explore rocks and &quot;fossils&quot; with magnifying gl
 ass, and examine dino x-rays.
URL:https://www.kcpls.org/event/slc-kids-unearth-and-explore-71516
END:VEVENT
END:VCALENDAR
