BEGIN:VCALENDAR
VERSION:2.0
PRODID:-//Library Market//iCal Export//EN
BEGIN:VEVENT
SUMMARY:SLC: Rocks, Minerals, Fossils Oh My!
UID:71556
DTSTAMP:20260422T025800Z
DTSTART:20260609T220000Z
DTEND:20260609T233000Z
LOCATION:5449 Big Tyler Rd, Cross Lanes, WV 25313, United States
ROOM: Cross Lanes Meeting Room
DESCRIPTION:Come join Geologist Paul Gebhard for a hands-on exploration of
  geology, rocks, minerals, and fossils!! Mr. Gebhard has traveled all 50 s
 tates and Canada, finding unique minerals and fossils along the way. Sampl
 es to be explored include: fossils (trilobites) from Western Canada, miner
 als from Eastern Canada, lava from Hawaii, fossils from Ohio and Kentucky,
  quartz crystals from New York and Arkansas, granite from Vermont and New 
 Hampshire. Ages 8 and up are invited to this interactive program.  
URL:https://www.kcpls.org/event/place-holder-slc-rocks-minerals-fossils-oh
 -my-71556
END:VEVENT
END:VCALENDAR
