BEGIN:VCALENDAR
VERSION:2.0
PRODID:-//Library Market//iCal Export//EN
BEGIN:VEVENT
SUMMARY:Family Fun: Together with Tea
UID:71657
DTSTAMP:20260420T165400Z
DTSTART:20260511T213000Z
DTEND:20260511T230000Z
LOCATION:313 The Crossings Mall, Elkview, WV 25071, United States
ROOM: Elk Valley Meeting Room A/B
DESCRIPTION:What better way to celebrate that special mother or mother fig
 ure in your life than with tea, treats, and togetherness?  Several activi
 ties will be available to give you opportunities to show those you love ho
 w special they are to you.  Make sure to bring that special role model an
 d some friends to share this special time with you!
URL:https://www.kcpls.org/event/family-fun-tea-togetherness-71657
END:VEVENT
END:VCALENDAR
