BEGIN:VCALENDAR
VERSION:2.0
PRODID:-//Library Market//iCal Export//EN
BEGIN:VEVENT
SUMMARY:Jump into Storytime
UID:71663
DTSTAMP:20260420T165400Z
DTSTART:20260512T150000Z
DTEND:20260512T153000Z
LOCATION:107 Koontz Ave, Suite 100, Clendenin, WV 25045, United States
ROOM: Clendenin Meeting Room
DESCRIPTION:Storytime sessions are designed for children up to 5 years of 
 age.  Children and their caregivers will enjoy stories, songs, rhymes, an
 d more.  Partner with us to begin fostering a love of reading and books i
 n our youngest library patrons. Stick around immediately following storyti
 me for Stay &#039;n Play.
URL:https://www.kcpls.org/event/jump-storytime-71663
END:VEVENT
END:VCALENDAR
