BEGIN:VCALENDAR
VERSION:2.0
PRODID:-//Library Market//iCal Export//EN
BEGIN:VEVENT
SUMMARY:Stay &#039;n Play
UID:71664
DTSTAMP:20260420T165400Z
DTSTART:20260512T153000Z
DTEND:20260512T160000Z
LOCATION:107 Koontz Ave, Suite 100, Clendenin, WV 25045, United States
ROOM: Clendenin Meeting Room
DESCRIPTION:Stick around after storytime for a playgroup for preschool-age
 d kiddoes.  This is a great opportunity for children to interact and soci
 alize with others their age.  Same goes for you, adults!  Meet other car
 egivers while the kids have fun.  Age-appropriate toys will be provided f
 or your littles to explore with and learn.
URL:https://www.kcpls.org/event/stay-n-play-71664
END:VEVENT
END:VCALENDAR
