BEGIN:VCALENDAR
VERSION:2.0
PRODID:-//Library Market//iCal Export//EN
BEGIN:VEVENT
SUMMARY:test
UID:71728
DTSTAMP:20260422T012500Z
DTSTART:20270416T173000Z
DTEND:20270416T220000Z
LOCATION:123 Capitol Street, Charleston, WV 25301, United States
ROOM: Main 107 Study Room
DESCRIPTION:test
URL:https://www.kcpls.org/event/test-71728
END:VEVENT
END:VCALENDAR
