BEGIN:VCALENDAR
VERSION:2.0
PRODID:-//Library Market//iCal Export//EN
BEGIN:VEVENT
SUMMARY:test
UID:71730
DTSTAMP:20260422T012500Z
DTSTART:20270413T210000Z
DTEND:20270413T220000Z
LOCATION:123 Capitol Street, Charleston, WV 25301, United States
ROOM: Main 107 Study Room
DESCRIPTION:
URL:https://www.kcpls.org/event/test-71730
END:VEVENT
END:VCALENDAR
