BEGIN:VCALENDAR
VERSION:2.0
PRODID:-//Library Market//iCal Export//EN
BEGIN:VEVENT
SUMMARY:Animals After Dark
UID:71742
DTSTAMP:20260420T200000Z
DTSTART:20260709T220000Z
DTEND:20260709T230000Z
LOCATION:5449 Big Tyler Rd, Cross Lanes, WV 25313, United States
ROOM: Cross Lanes Meeting Room
DESCRIPTION:What do animals do all night? Join us as we explore animals th
 at sleep during the day and stay up all night!
URL:https://www.kcpls.org/event/animals-after-dark-71742
END:VEVENT
END:VCALENDAR
