BEGIN:VCALENDAR
VERSION:2.0
PRODID:-//Library Market//iCal Export//EN
BEGIN:VEVENT
SUMMARY:Monday Funday STEM Day Dino Day!
UID:71910
DTSTAMP:20260420T213600Z
DTSTART:20260608T150000Z
DTEND:20260608T160000Z
LOCATION:301 12th Street, Dunbar, WV 25064, United States
ROOM: Dunbar Meeting Room
DESCRIPTION:Join us as we explore the days of the dinosaurs in a fun, expl
 orative activity session that is sure to make you ROAR!  This program is
  designed for school age children, ages 5-12. 
URL:https://www.kcpls.org/event/monday-funday-stem-day-dino-day-71910
END:VEVENT
END:VCALENDAR
