BEGIN:VCALENDAR
VERSION:2.0
PRODID:-//Library Market//iCal Export//EN
BEGIN:VEVENT
SUMMARY:Monday Funday- STEM Day with Andy Sheetz (WV Forestry)
UID:71920
DTSTAMP:20260421T101100Z
DTSTART:20260629T150000Z
DTEND:20260629T160000Z
LOCATION:301 12th Street, Dunbar, WV 25064, United States
ROOM: Dunbar Meeting Room
DESCRIPTION:Join us for a 1 hr STEM program hosted by Andy Sheets from WV 
 Division of Forestry. We will be playing a game called birds and worms, d
 oing leaf rubbings and more! 
URL:https://www.kcpls.org/event/monday-funday-stem-day-andy-sheetz-wv-fore
 stry-71920
END:VEVENT
END:VCALENDAR
