BEGIN:VCALENDAR
VERSION:2.0
PRODID:-//Library Market//iCal Export//EN
BEGIN:VEVENT
SUMMARY:Monday Funday STEM Day
UID:71923
DTSTAMP:20260420T223200Z
DTSTART:20260417T150000Z
DTEND:20260417T160000Z
LOCATION:301 12th Street, Dunbar, WV 25064, United States
ROOM: Dunbar Meeting Room
DESCRIPTION:Join us for Monday Funday! A 1 hr STEM activtiy where we will 
 explore science, technology, engineering and math in a fun and exciting en
 vironment!
URL:https://www.kcpls.org/event/monday-funday-stem-day-71923
END:VEVENT
END:VCALENDAR
