BEGIN:VCALENDAR
VERSION:2.0
PRODID:-//Library Market//iCal Export//EN
BEGIN:VEVENT
SUMMARY:Moods of May Movie Time, Part 1
UID:71951
DTSTAMP:20260420T181500Z
DTSTART:20260502T180000Z
DTEND:20260502T194500Z
LOCATION:123 Capitol Street, Charleston, WV 25301, United States
ROOM: Main 406/407 John L. and Maude Dickinson Room
DESCRIPTION:Join KCPL Children&#039;s Services for an emotional ride as Ri
 ley explores all the feelings that guide daily life in the movie Inside Ou
 t (PG).  May is Mental Health Awareness month and what better way to help
  understand how we&#039;re feeling than with a movie?  Light snacks prov
 ided. Runtime 1 hour &amp; 30 mins.
URL:https://www.kcpls.org/event/moods-may-movie-time-part-i-71951
END:VEVENT
END:VCALENDAR
