BEGIN:VCALENDAR
VERSION:2.0
PRODID:-//Library Market//iCal Export//EN
BEGIN:VEVENT
SUMMARY:Moods of May Movie Time, Part 2
UID:71952
DTSTAMP:20260421T101500Z
DTSTART:20260518T180000Z
DTEND:20260518T194500Z
LOCATION:123 Capitol Street, Charleston, WV 25301, United States
ROOM: Main 406/407 John L. and Maude Dickinson Room
DESCRIPTION:Join KCPL Children&#039;s Services as we wrap up the moods of 
 May.  Explore with Riley all the feelings that come with growing up, in t
 he movie Inside Out 2 (PG).  Light snacks provided. Runtime 1 hour &amp; 
 36 minutes. 
URL:https://www.kcpls.org/event/moods-may-movie-time-part-2-71952
END:VEVENT
END:VCALENDAR
