BEGIN:VCALENDAR
VERSION:2.0
PRODID:-//Library Market//iCal Export//EN
BEGIN:VEVENT
SUMMARY:Playgroup
UID:71956
DTSTAMP:20260421T101500Z
DTSTART:20260520T153000Z
DTEND:20260520T160000Z
LOCATION:1 Warrior Way, Suite 104, Belle, WV 25015, United States
ROOM: Playgroup
DESCRIPTION:Playgroup is free play for littles. Playing is how littles lea
 rn.
URL:https://www.kcpls.org/event/playgroup-71956
END:VEVENT
END:VCALENDAR
