BEGIN:VCALENDAR
VERSION:2.0
PRODID:-//Library Market//iCal Export//EN
BEGIN:VEVENT
SUMMARY:Story time: Butterflies
UID:71959
DTSTAMP:20260421T095300Z
DTSTART:20260521T203000Z
DTEND:20260521T213000Z
LOCATION:129 4th Ave, Town Hall, Glasgow, WV 25086, United States
ROOM: Story time: Butterflies
DESCRIPTION:Butterfly story &amp; butterfly craft masks will be provided.
URL:https://www.kcpls.org/event/story-time-butterflies-71959
END:VEVENT
END:VCALENDAR
