BEGIN:VCALENDAR
VERSION:2.0
PRODID:-//Library Market//iCal Export//EN
BEGIN:VEVENT
SUMMARY:SLC: Sissonville Summer Kick-off
UID:71998
DTSTAMP:20260420T220600Z
DTSTART:20260602T220000Z
DTEND:20260602T233000Z
LOCATION:1 Tinney Ln, Sissonville, WV 25312, United States
ROOM: SLC: Sissonville Summer Kick-off
DESCRIPTION:Join the Sissonville Library staff for a fun summer kick-off p
 arty! Enjoy snacks, crafts, and activities that follow the dinosaur theme 
 of our Summer Library Club. Stay for a bubble show from Edsel!
URL:https://www.kcpls.org/event/slc-sissonville-summer-kick-71998
END:VEVENT
END:VCALENDAR
