BEGIN:VCALENDAR
VERSION:2.0
PRODID:-//Library Market//iCal Export//EN
BEGIN:VEVENT
SUMMARY:SLC: Sissonville Summer Finale
UID:71999
DTSTAMP:20260421T130900Z
DTSTART:20260727T170000Z
DTEND:20260727T190000Z
LOCATION:1 Tinney Ln, Sissonville, WV 25312, United States
ROOM: SLC: Sissonville Summer Finale
DESCRIPTION:Join the Sissonville Library staff for a the summer finale! Wh
 ile visiting for Fun Kids Fitness, enjoy some popsicles and outdoor activi
 ties!
URL:https://www.kcpls.org/event/slc-sissonville-summer-finale-71999
END:VEVENT
END:VCALENDAR
