BEGIN:VCALENDAR
VERSION:2.0
PRODID:-//Library Market//iCal Export//EN
BEGIN:VEVENT
SUMMARY:Monday Funday- STEM-- How Plants Grow
UID:72003
DTSTAMP:20260421T160700Z
DTSTART:20260615T150000Z
DTEND:20260615T160000Z
LOCATION:301 12th Street, Dunbar, WV 25064, United States
ROOM: Dunbar Meeting Room
DESCRIPTION:In this session we will learn and explore the growth stages of
  plants with Jonathan from WVSU extension services. 
URL:https://www.kcpls.org/event/monday-funday-stem-how-plants-grow-72003
END:VEVENT
END:VCALENDAR
