BEGIN:VCALENDAR
VERSION:2.0
PRODID:-//Library Market//iCal Export//EN
BEGIN:VEVENT
SUMMARY:Monday Funday- STEM- Dino/Treasure Dig
UID:72008
DTSTAMP:20260421T130900Z
DTSTART:20260727T150000Z
DTEND:20260727T160000Z
LOCATION:301 12th Street, Dunbar, WV 25064, United States
ROOM: Dunbar Meeting Room
DESCRIPTION:Unearth a treasure in this dig site adventure. Sift and dig t
 hrough sand to find prehistoric treaures along with some gems.  ** Each 
 child who participates can unearth  1 dino skull, 1 dino egg, and 4 gems.
  ** Each child will also receive a pic axe pencil and dino stickers. 
URL:https://www.kcpls.org/event/monday-funday-stem-dinotreasure-dig-72008
END:VEVENT
END:VCALENDAR
