BEGIN:VCALENDAR
VERSION:2.0
PRODID:-//Library Market//iCal Export//EN
BEGIN:VEVENT
SUMMARY:O&#039;Ryan the O&#039;Mazing&#039;s Spectacular Circus Class
UID:72029
DTSTAMP:20260421T130900Z
DTSTART:20260530T170000Z
DTEND:20260530T180000Z
LOCATION:123 Capitol Street, Charleston, WV 25301, United States
ROOM: Main 406/407 John L. and Maude Dickinson Room
DESCRIPTION:Join O’Ryan the O’Mazing — a longtime, beloved FestivALL
  street performer — for this family-friendly class on the art of clownin
 g! Learn how to build a character and tap into your emotions with O’Ryan
 ’s expert guidance. It’s a playful, engaging experience that’s perfe
 ct for the whole family. Presented by FestivALL.
URL:https://www.kcpls.org/event/oryan-omazings-spectacular-circus-class-72
 029
END:VEVENT
END:VCALENDAR
