BEGIN:VCALENDAR
VERSION:2.0
PRODID:-//Library Market//iCal Export//EN
BEGIN:VEVENT
SUMMARY:Art-for-ALL Kids Juried Art Exhibition
UID:72030
DTSTAMP:20260422T012500Z
DTSTART:20260522T040000Z
DTEND:20260522T040000Z
LOCATION:123 Capitol Street, Charleston, WV 25301, United States
ROOM: Art-for-ALL Kids Juried Art Exhibition
DESCRIPTION:Art-for-ALL is a juried exhibition for children in grades Pre-
 K through 6th from several WV counties. The exhibition is available for vi
 ewing during KCPL&#039;s open hours and is in the Jacobson Tower area on t
 he fourth floor of the Main Library. Presented by FestivALL.
URL:https://www.kcpls.org/event/art-all-kids-juried-art-exhibition-72030
END:VEVENT
END:VCALENDAR
