BEGIN:VCALENDAR
VERSION:2.0
PRODID:-//Library Market//iCal Export//EN
BEGIN:VEVENT
SUMMARY:America 250: Hamilton Movie Night
UID:72037
DTSTAMP:20260422T012500Z
DTSTART:20260507T203000Z
DTEND:20260507T233000Z
LOCATION:123 Capitol Street, Charleston, WV 25301, United States
ROOM: Main 311B GKVF Meeting Room
DESCRIPTION:Join us for a movie night at the library featuring the hit Bro
 adway musical, Hamilton. We will have popcorn, hot cocoa and coffee. You j
 ust need to bring your sing-along skills! This program is part of the lib
 rary&#039;s celebration of America&#039;s 250th birthday. 
URL:https://www.kcpls.org/event/america-250-hamilton-movie-night-72037
END:VEVENT
END:VCALENDAR
