BEGIN:VCALENDAR
VERSION:2.0
PRODID:-//Library Market//iCal Export//EN
BEGIN:VEVENT
SUMMARY:Kanawha Mall
UID:72062
DTSTAMP:20260422T012500Z
DTSTART:20260511T183000Z
DTEND:20260511T200000Z
LOCATION:5707 MacCorkle Ave SE, Charleston, WV 25304, United States
ROOM: Kanawha Mall
DESCRIPTION:
URL:https://www.kcpls.org/event/kanawha-mall-72062
END:VEVENT
END:VCALENDAR
