BEGIN:VCALENDAR
VERSION:2.0
PRODID:-//Library Market//iCal Export//EN
BEGIN:VEVENT
SUMMARY:Lab Corp @ Hills Plaza
UID:72063
DTSTAMP:20260422T012500Z
DTSTART:20260512T140000Z
DTEND:20260512T170000Z
LOCATION:120 Hills Plz., Charleston, WV 25387, United States
ROOM: Lab Corp @ Hills Plaza
DESCRIPTION:
URL:https://www.kcpls.org/event/lab-corp-hills-plaza-72063
END:VEVENT
END:VCALENDAR
