BEGIN:VCALENDAR
VERSION:2.0
PRODID:-//Library Market//iCal Export//EN
BEGIN:VEVENT
SUMMARY:Agsten Manor @ Randolph St.
UID:72064
DTSTAMP:20260422T012500Z
DTSTART:20260512T183000Z
DTEND:20260512T200000Z
LOCATION:715 Randolph St., Charleston, WV 25302, United States
ROOM: Agsten Manor @ Randolph St.
DESCRIPTION:
URL:https://www.kcpls.org/event/agsten-manor-randolph-st-72064
END:VEVENT
END:VCALENDAR
