BEGIN:VCALENDAR
VERSION:2.0
PRODID:-//Library Market//iCal Export//EN
BEGIN:VEVENT
SUMMARY:Kenna Homes @ South Charleston
UID:72066
DTSTAMP:20260422T012500Z
DTSTART:20260513T183000Z
DTEND:20260513T200000Z
LOCATION:410 Kenna Dr., South Charleston, WV 25309, United States
ROOM: Kenna Homes @ South Charleston
DESCRIPTION:
URL:https://www.kcpls.org/event/kenna-homes-south-charleston-72066
END:VEVENT
END:VCALENDAR
