BEGIN:VCALENDAR
VERSION:2.0
PRODID:-//Library Market//iCal Export//EN
BEGIN:VEVENT
SUMMARY:Old Kanawha Baptist Church @ Pratt
UID:72072
DTSTAMP:20260422T012500Z
DTSTART:20260519T183000Z
DTEND:20260519T200000Z
LOCATION:401 Pratt Ave., Pratt, WV 25162, United States
ROOM: Old Kanawha Baptist Church @ Pratt
DESCRIPTION:
URL:https://www.kcpls.org/event/old-kanawha-baptist-church-pratt-72072
END:VEVENT
END:VCALENDAR
