BEGIN:VCALENDAR
VERSION:2.0
PRODID:-//Library Market//iCal Export//EN
BEGIN:VEVENT
SUMMARY:Dollar Tree @ Belle
UID:72074
DTSTAMP:20260422T012500Z
DTSTART:20260521T183000Z
DTEND:20260521T200000Z
LOCATION:3175 W Dupont Ave., Belle, WV 25015, United States
ROOM: Dollar Tree @ Belle
DESCRIPTION:
URL:https://www.kcpls.org/event/dollar-tree-belle-72074
END:VEVENT
END:VCALENDAR
