BEGIN:VCALENDAR
VERSION:2.0
PRODID:-//Library Market//iCal Export//EN
BEGIN:VEVENT
SUMMARY:Marmet Library
UID:72076
DTSTAMP:20260422T012500Z
DTSTART:20260521T183000Z
DTEND:20260521T200000Z
LOCATION:9303 Oregon Ave., Marmet, WV 25315, United States
ROOM: Marmet Library
DESCRIPTION:
URL:https://www.kcpls.org/event/marmet-library-72076
END:VEVENT
END:VCALENDAR
