BEGIN:VCALENDAR
VERSION:2.0
PRODID:-//Library Market//iCal Export//EN
BEGIN:VEVENT
SUMMARY:Cabin Creek Health Center @ Cabin Creek
UID:72080
DTSTAMP:20260422T012500Z
DTSTART:20260526T183000Z
DTEND:20260526T200000Z
LOCATION:5722 Cabin Creek Rd., Dawes, WV 25054, United States
ROOM: Cabin Creek Health Center @ Cabin Creek
DESCRIPTION:
URL:https://www.kcpls.org/event/cabin-creek-health-center-cabin-creek-7208
 0
END:VEVENT
END:VCALENDAR
