BEGIN:VCALENDAR
VERSION:2.0
PRODID:-//Library Market//iCal Export//EN
BEGIN:VEVENT
SUMMARY:SLC Finale with PBS Dino Train
UID:72106
DTSTAMP:20260422T235200Z
DTSTART:20260729T150000Z
DTEND:20260729T163000Z
LOCATION:1 Warrior Way, Suite 104, Belle, WV 25015, United States
ROOM: SLC Finale with PBS Dino Train
DESCRIPTION:Let&#039;s end Summer Library Club (SLC) with PBS&#039; own Di
 no Train. 
URL:https://www.kcpls.org/event/slc-finale-pbs-dino-train-72106
END:VEVENT
END:VCALENDAR
