BEGIN:VCALENDAR
VERSION:2.0
PRODID:-//Library Market//iCal Export//EN
BEGIN:VEVENT
SUMMARY:SLC: PBS Dinosaur Train Storytime
UID:72107
DTSTAMP:20260423T001000Z
DTSTART:20260610T140000Z
DTEND:20260610T150000Z
LOCATION:123 Capitol Street, Charleston, WV 25301, United States
ROOM: Main 406/407 John L. and Maude Dickinson Room
DESCRIPTION:Who is your favorite Dinosaur Train character? Unearth your c
 hild’s interest in life sciences and natural history in this special sto
 rytime presented by PBS. Enjoy stories and fun activities using observatio
 nal skills and paleontologist terms. 
URL:https://www.kcpls.org/event/slc-pbs-dinosaur-train-storytime-72107
END:VEVENT
END:VCALENDAR
