BEGIN:VCALENDAR
VERSION:2.0
PRODID:-//Library Market//iCal Export//EN
BEGIN:VEVENT
SUMMARY:SLC Finale Extinction
UID:72108
DTSTAMP:20260423T010000Z
DTSTART:20260730T203000Z
DTEND:20260730T213000Z
LOCATION:129 4th Ave, Town Hall, Glasgow, WV 25086, United States
ROOM: SLC Finale Extinction
DESCRIPTION:Join us for the Extinction  of Summer Library Club 2026.We wi
 ll be ending our summer reading this year with a roaring, stomping good ti
 me. Refreshments will be served.
URL:https://www.kcpls.org/event/slc-finale-extinction-72108
END:VEVENT
END:VCALENDAR
