BEGIN:VCALENDAR
VERSION:2.0
PRODID:-//Library Market//iCal Export//EN
BEGIN:VEVENT
SUMMARY:SLC: Salsa Gardens
UID:72148
DTSTAMP:20260425T161800Z
DTSTART:20260608T180000Z
DTEND:20260608T190000Z
LOCATION:313 The Crossings Mall, Elkview, WV 25071, United States
ROOM: Elk Valley Meeting Room A/B
DESCRIPTION:In recognition of National Garden Week (June 7-13), we are pla
 nting, decorating, and taking home seed starters for vegetables and herbs 
 found in traditional salsas! This is a great way to celebrate Latino cultu
 re within the U.S.A. for America250 and take part in the local Otis Laury 
 Nutritional Literacy Initiative. Please wear an outfit that you don&#039;t
  mind getting a bit earthy!
URL:https://www.kcpls.org/event/slc-salsa-gardens-72148
END:VEVENT
END:VCALENDAR
